Workbook

Sheet 목록
A1: 유휴 공유재산(토지, 건물) 공개 목록('26.5월말 기준)
A2: 붙임3 작성방법 참고하여 작성 바람
A3: 연번 | B3: 지방정부 코드 | C3: 시군구 | D3: 구분현황 | E3: 물건명 | F3: 소재지(지번) | G3: 주소의 지번주소 | H3: 소재지(도로명) | I3: 토지/건물 | J3: 토지 | L3: 건물 | O3: 공개여부 | P3: 재산구분(행정/일반) | Q3: 재산관리관 | R3: 일반재산 | S3: 일반재산 | T3: 사용허가·대부 불가 사유 | U3: 유휴사유코드 | V3: 유휴사유명 | W3: 유휴사유 상세설명 | X3: 활용계획(예: 대부, 매각, 용도폐지 등) | Z3: 오류 검증 | AD3: 담당자 연락처
J4: 지목 | K4: 면적(㎡) | L4: 건물구분 | M4: 건물용도 | N4: 연면적(㎡) | R4: 대부가능여부 | S4: 대부/매각선택
A5: 합계 | E5: =SUBTOTAL(3,E6:E290) -> 85 | K5: =SUBTOTAL(9,K6:K400) -> 243979.8 | L5: =SUBTOTAL(3,L6:L7) -> 0 | M5: =SUBTOTAL(3,M6:M7) -> 0 | N5: =SUBTOTAL(3,N6:N7) -> 0
A6: 1 | B6: 4450000 | C6: 증평군 | D6: 군유지 | G6: 충청북도 증평군 증평읍 증평리 131 | I6: 토지 | J6: 대 | K6: 147 | O6: 여 | P6: 일반재산 | Q6: 재무과 | R6: 부 | S6: 해당없음 | T6: 활용불가능 상태 | U6: G05 | V6: =VLOOKUP(U6,'작성방법 관련'!$B$1:$C$8,2) -> 단순 미활용 | W6: 정자 조성 | X6: 공공목적 활용 | Z6: =VLOOKUP(P6,'작성방법 관련'!$E$1:$F$3,2) -> G | AA6: =LEFT(U6,1) -> G | AB6: =EXACT(Z6,AA6) -> TRUE | AD6: 043-835-3343
A7: 2 | B7: 4450000 | C7: 증평군 | D7: 군유지 | G7: 충청북도 증평군 증평읍 증평리 133 | I7: 토지 | J7: 대 | K7: 13 | O7: 여 | P7: 일반재산 | Q7: 재무과 | R7: 부 | S7: 해당없음 | T7: 활용불가능 상태 | U7: G05 | V7: =VLOOKUP(U7,'작성방법 관련'!$B$1:$C$8,2) -> 단순 미활용 | W7: 화단 조성 | X7: 공공목적 활용 | Z7: =VLOOKUP(P7,'작성방법 관련'!$E$1:$F$3,2) -> G | AA7: =LEFT(U7,1) -> G | AB7: =EXACT(Z7,AA7) -> TRUE | AD7: 043-835-3343
A8: 3 | B8: 4450000 | C8: 증평군 | D8: 군유지 | G8: 충청북도 증평군 증평읍 증평리 363 | I8: 토지 | J8: 대 | K8: 149 | O8: 여 | P8: 일반재산 | Q8: 재무과 | R8: 부 | S8: 해당없음 | T8: 활용불가능 상태 | U8: G05 | V8: =VLOOKUP(U8,'작성방법 관련'!$B$1:$C$8,2) -> 단순 미활용 | W8: 사면 | X8: 필요시 공공사업부지 활용 | Z8: =VLOOKUP(P8,'작성방법 관련'!$E$1:$F$3,2) -> G | AA8: =LEFT(U8,1) -> G | AB8: =EXACT(Z8,AA8) -> TRUE | AD8: 043-835-3343
A9: 4 | B9: 4450000 | C9: 증평군 | D9: 군유지 | G9: 충청북도 증평군 증평읍 증평리 364 | I9: 토지 | J9: 대 | K9: 122 | O9: 여 | P9: 일반재산 | Q9: 재무과 | R9: 부 | S9: 해당없음 | T9: 활용불가능 상태 | U9: G05 | V9: =VLOOKUP(U9,'작성방법 관련'!$B$1:$C$8,2) -> 단순 미활용 | W9: 사면 | X9: 필요시 공공사업부지 활용 | Z9: =VLOOKUP(P9,'작성방법 관련'!$E$1:$F$3,2) -> G | AA9: =LEFT(U9,1) -> G | AB9: =EXACT(Z9,AA9) -> TRUE | AD9: 043-835-3343
A10: 5 | B10: 4450000 | C10: 증평군 | D10: 군유지 | G10: 충청북도 증평군 증평읍 증평리 422-1 | I10: 토지 | J10: 대 | K10: 16 | O10: 여 | P10: 일반재산 | Q10: 재무과 | R10: 여 | S10: 대부대상 | U10: G05 | V10: =VLOOKUP(U10,'작성방법 관련'!$B$1:$C$8,2) -> 단순 미활용 | W10: 미활용 | X10: 대부 또는 공공사업부지 활용 | Z10: =VLOOKUP(P10,'작성방법 관련'!$E$1:$F$3,2) -> G | AA10: =LEFT(U10,1) -> G | AB10: =EXACT(Z10,AA10) -> TRUE | AD10: 043-835-3343
A11: 6 | B11: 4450000 | C11: 증평군 | D11: 군유지 | G11: 충청북도 증평군 증평읍 증평리 424 | I11: 토지 | J11: 대 | K11: 270.9 | O11: 여 | P11: 일반재산 | Q11: 재무과 | R11: 여 | S11: 대부대상 | U11: G05 | V11: =VLOOKUP(U11,'작성방법 관련'!$B$1:$C$8,2) -> 단순 미활용 | W11: 미활용 | X11: 대부 또는 공공사업부지 활용 | Z11: =VLOOKUP(P11,'작성방법 관련'!$E$1:$F$3,2) -> G | AA11: =LEFT(U11,1) -> G | AB11: =EXACT(Z11,AA11) -> TRUE | AD11: 043-835-3343
A12: 7 | B12: 4450000 | C12: 증평군 | D12: 군유지 | G12: 충청북도 증평군 증평읍 증평리 425 | I12: 토지 | J12: 대 | K12: 181.1 | O12: 여 | P12: 일반재산 | Q12: 재무과 | R12: 부 | S12: 해당없음 | T12: 활용불가능 상태 | U12: G05 | V12: =VLOOKUP(U12,'작성방법 관련'!$B$1:$C$8,2) -> 단순 미활용 | W12: 사면 | X12: 필요시 공공사업부지 활용 | Z12: =VLOOKUP(P12,'작성방법 관련'!$E$1:$F$3,2) -> G | AA12: =LEFT(U12,1) -> G | AB12: =EXACT(Z12,AA12) -> TRUE | AD12: 043-835-3343
A13: 8 | B13: 4450000 | C13: 증평군 | D13: 군유지 | G13: 충청북도 증평군 증평읍 증평리 428 | I13: 토지 | J13: 대 | K13: 243.3 | O13: 여 | P13: 일반재산 | Q13: 재무과 | R13: 부 | S13: 해당없음 | T13: 활용불가능 상태 | U13: G05 | V13: =VLOOKUP(U13,'작성방법 관련'!$B$1:$C$8,2) -> 단순 미활용 | W13: 사면 | X13: 필요시 공공사업부지 활용 | Z13: =VLOOKUP(P13,'작성방법 관련'!$E$1:$F$3,2) -> G | AA13: =LEFT(U13,1) -> G | AB13: =EXACT(Z13,AA13) -> TRUE | AD13: 043-835-3343
A14: 9 | B14: 4450000 | C14: 증평군 | D14: 군유지 | G14: 충청북도 증평군 증평읍 증평리 428-1 | I14: 토지 | J14: 전 | K14: 45.5 | O14: 여 | P14: 일반재산 | Q14: 재무과 | R14: 부 | S14: 해당없음 | T14: 활용불가능 상태 | U14: G05 | V14: =VLOOKUP(U14,'작성방법 관련'!$B$1:$C$8,2) -> 단순 미활용 | W14: 사면 | X14: 필요시 공공사업부지 활용 | Z14: =VLOOKUP(P14,'작성방법 관련'!$E$1:$F$3,2) -> G | AA14: =LEFT(U14,1) -> G | AB14: =EXACT(Z14,AA14) -> TRUE | AD14: 043-835-3343
A15: 10 | B15: 4450000 | C15: 증평군 | D15: 군유지 | G15: 충청북도 증평군 증평읍 증평리 462 | I15: 토지 | J15: 대 | K15: 137.3 | O15: 여 | P15: 일반재산 | Q15: 재무과 | R15: 부 | S15: 해당없음 | T15: 활용불가능 상태 | U15: G05 | V15: =VLOOKUP(U15,'작성방법 관련'!$B$1:$C$8,2) -> 단순 미활용 | W15: 정자 조성 | X15: 공공목적 활용 | Z15: =VLOOKUP(P15,'작성방법 관련'!$E$1:$F$3,2) -> G | AA15: =LEFT(U15,1) -> G | AB15: =EXACT(Z15,AA15) -> TRUE | AD15: 043-835-3343
A16: 11 | B16: 4450000 | C16: 증평군 | D16: 군유지 | G16: 충청북도 증평군 증평읍 증평리 462-1 | I16: 토지 | J16: 대 | K16: 41.5 | O16: 여 | P16: 일반재산 | Q16: 재무과 | R16: 부 | S16: 해당없음 | T16: 활용불가능 상태 | U16: G05 | V16: =VLOOKUP(U16,'작성방법 관련'!$B$1:$C$8,2) -> 단순 미활용 | W16: 마을 통행로 | X16: 공공목적 활용 | Z16: =VLOOKUP(P16,'작성방법 관련'!$E$1:$F$3,2) -> G | AA16: =LEFT(U16,1) -> G | AB16: =EXACT(Z16,AA16) -> TRUE | AD16: 043-835-3343
A17: 12 | B17: 4450000 | C17: 증평군 | D17: 군유지 | G17: 충청북도 증평군 증평읍 증평리 492-1 | I17: 토지 | J17: 전 | K17: 6.8 | O17: 여 | P17: 일반재산 | Q17: 재무과 | R17: 여 | S17: 대부대상 | U17: G05 | V17: =VLOOKUP(U17,'작성방법 관련'!$B$1:$C$8,2) -> 단순 미활용 | W17: 미활용 | X17: 대부 또는 공공사업부지 활용 | Z17: =VLOOKUP(P17,'작성방법 관련'!$E$1:$F$3,2) -> G | AA17: =LEFT(U17,1) -> G | AB17: =EXACT(Z17,AA17) -> TRUE | AD17: 043-835-3343
A18: 13 | B18: 4450000 | C18: 증평군 | D18: 군유지 | G18: 충청북도 증평군 증평읍 증평리 697 | I18: 토지 | J18: 대 | K18: 137 | O18: 여 | P18: 일반재산 | Q18: 재무과 | R18: 부 | S18: 해당없음 | T18: 활용불가능 상태 | U18: G05 | V18: =VLOOKUP(U18,'작성방법 관련'!$B$1:$C$8,2) -> 단순 미활용 | W18: 정자 조성 | X18: 공공목적 활용 | Z18: =VLOOKUP(P18,'작성방법 관련'!$E$1:$F$3,2) -> G | AA18: =LEFT(U18,1) -> G | AB18: =EXACT(Z18,AA18) -> TRUE | AD18: 043-835-3343
A19: 14 | B19: 4450000 | C19: 증평군 | D19: 군유지 | G19: 충청북도 증평군 증평읍 신동리 437 | I19: 토지 | J19: 대 | K19: 37 | O19: 여 | P19: 일반재산 | Q19: 재무과 | R19: 부 | S19: 해당없음 | T19: 활용불가능 상태 | U19: G05 | V19: =VLOOKUP(U19,'작성방법 관련'!$B$1:$C$8,2) -> 단순 미활용 | W19: 사면 | X19: 필요시 공공사업부지 활용 | Z19: =VLOOKUP(P19,'작성방법 관련'!$E$1:$F$3,2) -> G | AA19: =LEFT(U19,1) -> G | AB19: =EXACT(Z19,AA19) -> TRUE | AD19: 043-835-3343
A20: 15 | B20: 4450000 | C20: 증평군 | D20: 군유지 | G20: 충청북도 증평군 증평읍 교동리 77-61 | I20: 토지 | J20: 대 | K20: 11.6 | O20: 여 | P20: 일반재산 | Q20: 재무과 | R20: 부 | S20: 해당없음 | T20: 활용불가능 상태 | U20: G05 | V20: =VLOOKUP(U20,'작성방법 관련'!$B$1:$C$8,2) -> 단순 미활용 | W20: 통행로 이용 | X20: 공공목적 활용 | Z20: =VLOOKUP(P20,'작성방법 관련'!$E$1:$F$3,2) -> G | AA20: =LEFT(U20,1) -> G | AB20: =EXACT(Z20,AA20) -> TRUE | AD20: 043-835-3343
A21: 16 | B21: 4450000 | C21: 증평군 | D21: 군유지 | G21: 충청북도 증평군 증평읍 교동리 77-62 | I21: 토지 | J21: 대 | K21: 17.9 | O21: 여 | P21: 일반재산 | Q21: 재무과 | R21: 부 | S21: 해당없음 | T21: 활용불가능 상태 | U21: G05 | V21: =VLOOKUP(U21,'작성방법 관련'!$B$1:$C$8,2) -> 단순 미활용 | W21: 통행로 이용 | X21: 공공목적 활용 | Z21: =VLOOKUP(P21,'작성방법 관련'!$E$1:$F$3,2) -> G | AA21: =LEFT(U21,1) -> G | AB21: =EXACT(Z21,AA21) -> TRUE | AD21: 043-835-3343
A22: 17 | B22: 4450000 | C22: 증평군 | D22: 군유지 | G22: 충청북도 증평군 증평읍 교동리 77-63 | I22: 토지 | J22: 대 | K22: 17.9 | O22: 여 | P22: 일반재산 | Q22: 재무과 | R22: 부 | S22: 해당없음 | T22: 활용불가능 상태 | U22: G05 | V22: =VLOOKUP(U22,'작성방법 관련'!$B$1:$C$8,2) -> 단순 미활용 | W22: 통행로 이용 | X22: 공공목적 활용 | Z22: =VLOOKUP(P22,'작성방법 관련'!$E$1:$F$3,2) -> G | AA22: =LEFT(U22,1) -> G | AB22: =EXACT(Z22,AA22) -> TRUE | AD22: 043-835-3343
A23: 18 | B23: 4450000 | C23: 증평군 | D23: 군유지 | G23: 충청북도 증평군 증평읍 교동리 77-64 | I23: 토지 | J23: 대 | K23: 5.3 | O23: 여 | P23: 일반재산 | Q23: 재무과 | R23: 부 | S23: 해당없음 | T23: 활용불가능 상태 | U23: G05 | V23: =VLOOKUP(U23,'작성방법 관련'!$B$1:$C$8,2) -> 단순 미활용 | W23: 통행로 이용 | X23: 공공목적 활용 | Z23: =VLOOKUP(P23,'작성방법 관련'!$E$1:$F$3,2) -> G | AA23: =LEFT(U23,1) -> G | AB23: =EXACT(Z23,AA23) -> TRUE | AD23: 043-835-3343
A24: 19 | B24: 4450000 | C24: 증평군 | D24: 군유지 | G24: 충청북도 증평군 증평읍 창동리 94 | I24: 토지 | J24: 전 | K24: 36 | O24: 여 | P24: 일반재산 | Q24: 재무과 | R24: 부 | S24: 해당없음 | T24: 활용불가능 상태 | U24: G05 | V24: =VLOOKUP(U24,'작성방법 관련'!$B$1:$C$8,2) -> 단순 미활용 | W24: 화단 조성 | X24: 공공목적 활용 | Z24: =VLOOKUP(P24,'작성방법 관련'!$E$1:$F$3,2) -> G | AA24: =LEFT(U24,1) -> G | AB24: =EXACT(Z24,AA24) -> TRUE | AD24: 043-835-3343
A25: 20 | B25: 4450000 | C25: 증평군 | D25: 군유지 | G25: 충청북도 증평군 증평읍 창동리 536 | I25: 토지 | J25: 창고용지 | K25: 181 | O25: 여 | P25: 일반재산 | Q25: 재무과 | R25: 부 | S25: 해당없음 | T25: 활용불가능 상태 | U25: G05 | V25: =VLOOKUP(U25,'작성방법 관련'!$B$1:$C$8,2) -> 단순 미활용 | W25: 재활용 창고 시설 | X25: 공공목적 활용 | Z25: =VLOOKUP(P25,'작성방법 관련'!$E$1:$F$3,2) -> G | AA25: =LEFT(U25,1) -> G | AB25: =EXACT(Z25,AA25) -> TRUE | AD25: 043-835-3343
A26: 21 | B26: 4450000 | C26: 증평군 | D26: 군유지 | G26: 충청북도 증평군 증평읍 창동리 540 | I26: 토지 | J26: 대 | K26: 10 | O26: 여 | P26: 일반재산 | Q26: 재무과 | R26: 부 | S26: 해당없음 | T26: 활용불가능 상태 | U26: G05 | V26: =VLOOKUP(U26,'작성방법 관련'!$B$1:$C$8,2) -> 단순 미활용 | W26: 통행로 이용 | X26: 공공목적 활용 | Z26: =VLOOKUP(P26,'작성방법 관련'!$E$1:$F$3,2) -> G | AA26: =LEFT(U26,1) -> G | AB26: =EXACT(Z26,AA26) -> TRUE | AD26: 043-835-3343
A27: 22 | B27: 4450000 | C27: 증평군 | D27: 군유지 | G27: 충청북도 증평군 증평읍 장동리 67 | I27: 토지 | J27: 답 | K27: 1 | O27: 여 | P27: 일반재산 | Q27: 재무과 | R27: 부 | S27: 해당없음 | T27: 활용불가능 상태 | U27: G05 | V27: =VLOOKUP(U27,'작성방법 관련'!$B$1:$C$8,2) -> 단순 미활용 | W27: 도로이용 | X27: 공공목적 활용 | Z27: =VLOOKUP(P27,'작성방법 관련'!$E$1:$F$3,2) -> G | AA27: =LEFT(U27,1) -> G | AB27: =EXACT(Z27,AA27) -> TRUE | AD27: 043-835-3343
A28: 23 | B28: 4450000 | C28: 증평군 | D28: 군유지 | G28: 충청북도 증평군 증평읍 장동리 68-2 | I28: 토지 | J28: 답 | K28: 12 | O28: 여 | P28: 일반재산 | Q28: 재무과 | R28: 부 | S28: 해당없음 | T28: 활용불가능 상태 | U28: G05 | V28: =VLOOKUP(U28,'작성방법 관련'!$B$1:$C$8,2) -> 단순 미활용 | W28: 인도옆 사면 | X28: 필요시 공공사업부지 활용 | Z28: =VLOOKUP(P28,'작성방법 관련'!$E$1:$F$3,2) -> G | AA28: =LEFT(U28,1) -> G | AB28: =EXACT(Z28,AA28) -> TRUE | AD28: 043-835-3343
A29: 24 | B29: 4450000 | C29: 증평군 | D29: 군유지 | G29: 충청북도 증평군 증평읍 장동리 70 | I29: 토지 | J29: 철도용지 | K29: 72 | O29: 여 | P29: 일반재산 | Q29: 재무과 | R29: 부 | S29: 해당없음 | T29: 활용불가능 상태 | U29: G05 | V29: =VLOOKUP(U29,'작성방법 관련'!$B$1:$C$8,2) -> 단순 미활용 | W29: 인도옆 사면 | X29: 필요시 공공사업부지 활용 | Z29: =VLOOKUP(P29,'작성방법 관련'!$E$1:$F$3,2) -> G | AA29: =LEFT(U29,1) -> G | AB29: =EXACT(Z29,AA29) -> TRUE | AD29: 043-835-3343
A30: 25 | B30: 4450000 | C30: 증평군 | D30: 군유지 | G30: 충청북도 증평군 증평읍 장동리 70-2 | I30: 토지 | J30: 철도용지 | K30: 27 | O30: 여 | P30: 일반재산 | Q30: 재무과 | R30: 부 | S30: 해당없음 | T30: 활용불가능 상태 | U30: G05 | V30: =VLOOKUP(U30,'작성방법 관련'!$B$1:$C$8,2) -> 단순 미활용 | W30: 인도옆 사면 | X30: 필요시 공공사업부지 활용 | Z30: =VLOOKUP(P30,'작성방법 관련'!$E$1:$F$3,2) -> G | AA30: =LEFT(U30,1) -> G | AB30: =EXACT(Z30,AA30) -> TRUE | AD30: 043-835-3343
A31: 26 | B31: 4450000 | C31: 증평군 | D31: 군유지 | G31: 충청북도 증평군 증평읍 장동리 856-1 | I31: 토지 | J31: 도로 | K31: 52 | O31: 여 | P31: 일반재산 | Q31: 재무과 | R31: 여 | S31: 대부대상 | U31: G05 | V31: =VLOOKUP(U31,'작성방법 관련'!$B$1:$C$8,2) -> 단순 미활용 | W31: 단순미활용 | X31: 대부 또는 공공사업부지 활용 | Z31: =VLOOKUP(P31,'작성방법 관련'!$E$1:$F$3,2) -> G | AA31: =LEFT(U31,1) -> G | AB31: =EXACT(Z31,AA31) -> TRUE | AD31: 043-835-3343
A32: 27 | B32: 4450000 | C32: 증평군 | D32: 군유지 | G32: 충청북도 증평군 증평읍 증천리 431-3 | I32: 토지 | J32: 답 | K32: 6 | O32: 여 | P32: 일반재산 | Q32: 재무과 | R32: 부 | S32: 해당없음 | T32: 활용불가능 상태 | U32: G05 | V32: =VLOOKUP(U32,'작성방법 관련'!$B$1:$C$8,2) -> 단순 미활용 | W32: 통행로 이용 | X32: 공공목적 활용 | Z32: =VLOOKUP(P32,'작성방법 관련'!$E$1:$F$3,2) -> G | AA32: =LEFT(U32,1) -> G | AB32: =EXACT(Z32,AA32) -> TRUE | AD32: 043-835-3343
A33: 28 | B33: 4450000 | C33: 증평군 | D33: 군유지 | G33: 충청북도 증평군 증평읍 초중리 44-1 | I33: 토지 | J33: 창고용지 | K33: 439 | O33: 여 | P33: 일반재산 | Q33: 재무과 | R33: 부 | S33: 해당없음 | T33: 활용불가능 상태 | U33: G05 | V33: =VLOOKUP(U33,'작성방법 관련'!$B$1:$C$8,2) -> 단순 미활용 | W33: 재활용 창고 시설 | X33: 공공목적 활용 | Z33: =VLOOKUP(P33,'작성방법 관련'!$E$1:$F$3,2) -> G | AA33: =LEFT(U33,1) -> G | AB33: =EXACT(Z33,AA33) -> TRUE | AD33: 043-835-3343
A34: 29 | B34: 4450000 | C34: 증평군 | D34: 군유지 | G34: 충청북도 증평군 증평읍 초중리 44-7 | I34: 토지 | J34: 대 | K34: 39 | O34: 여 | P34: 일반재산 | Q34: 재무과 | R34: 부 | S34: 해당없음 | T34: 공공사업용지 활용 | U34: G05 | V34: =VLOOKUP(U34,'작성방법 관련'!$B$1:$C$8,2) -> 단순 미활용 | W34: 미활용 | X34: 공공사업용지 활용 | Z34: =VLOOKUP(P34,'작성방법 관련'!$E$1:$F$3,2) -> G | AA34: =LEFT(U34,1) -> G | AB34: =EXACT(Z34,AA34) -> TRUE | AD34: 043-835-3343
A35: 30 | B35: 4450000 | C35: 증평군 | D35: 군유지 | G35: 충청북도 증평군 증평읍 초중리 348-13 | I35: 토지 | J35: 전 | K35: 214 | O35: 여 | P35: 일반재산 | Q35: 재무과 | R35: 여 | S35: 대부대상 | U35: G05 | V35: =VLOOKUP(U35,'작성방법 관련'!$B$1:$C$8,2) -> 단순 미활용 | W35: 미활용 | X35: 대부 또는 공공사업부지 활용 | Z35: =VLOOKUP(P35,'작성방법 관련'!$E$1:$F$3,2) -> G | AA35: =LEFT(U35,1) -> G | AB35: =EXACT(Z35,AA35) -> TRUE | AD35: 043-835-3343
A36: 31 | B36: 4450000 | C36: 증평군 | D36: 군유지 | G36: 충청북도 증평군 증평읍 초중리 531-7 | I36: 토지 | J36: 잡종지 | K36: 175 | O36: 여 | P36: 일반재산 | Q36: 재무과 | R36: 부 | S36: 해당없음 | T36: 활용불가능 상태 | U36: G05 | V36: =VLOOKUP(U36,'작성방법 관련'!$B$1:$C$8,2) -> 단순 미활용 | W36: 쌈지공원(마을쉼터) | X36: 공공목적 활용 | Z36: =VLOOKUP(P36,'작성방법 관련'!$E$1:$F$3,2) -> G | AA36: =LEFT(U36,1) -> G | AB36: =EXACT(Z36,AA36) -> TRUE | AD36: 043-835-3343
A37: 32 | B37: 4450000 | C37: 증평군 | D37: 군유지 | G37: 충청북도 증평군 증평읍 연탄리 522-7 | I37: 토지 | J37: 대지 | K37: 153 | O37: 여 | P37: 일반재산 | Q37: 재무과 | R37: 부 | S37: 해당없음 | T37: 공공사업용지 활용 | U37: G05 | V37: =VLOOKUP(U37,'작성방법 관련'!$B$1:$C$8,2) -> 단순 미활용 | W37: 공공사업 사업 활용 예정 | X37: 공공사업부지 활용 | Z37: =VLOOKUP(P37,'작성방법 관련'!$E$1:$F$3,2) -> G | AA37: =LEFT(U37,1) -> G | AB37: =EXACT(Z37,AA37) -> TRUE | AD37: 043-835-3343
A38: 33 | B38: 4450000 | C38: 증평군 | D38: 군유지 | G38: 충청북도 증평군 증평읍 연탄리 산31-6 | I38: 토지 | J38: 임야 | K38: 99 | O38: 여 | P38: 일반재산 | Q38: 재무과 | R38: 부 | S38: 해당없음 | T38: 집단화필지 | U38: G05 | V38: =VLOOKUP(U38,'작성방법 관련'!$B$1:$C$8,2) -> 단순 미활용 | W38: 미활용 | X38: 필요시 공공사업부지 활용 | Z38: =VLOOKUP(P38,'작성방법 관련'!$E$1:$F$3,2) -> G | AA38: =LEFT(U38,1) -> G | AB38: =EXACT(Z38,AA38) -> TRUE | AD38: 043-835-3343
A39: 34 | B39: 4450000 | C39: 증평군 | D39: 군유지 | G39: 충청북도 증평군 증평읍 송산리 산3 | I39: 토지 | J39: 임야 | K39: 111 | O39: 여 | P39: 일반재산 | Q39: 재무과 | R39: 부 | S39: 해당없음 | T39: 활용불가능 상태 | U39: G05 | V39: =VLOOKUP(U39,'작성방법 관련'!$B$1:$C$8,2) -> 단순 미활용 | W39: 공원 | X39: 공공목적 활용 | Z39: =VLOOKUP(P39,'작성방법 관련'!$E$1:$F$3,2) -> G | AA39: =LEFT(U39,1) -> G | AB39: =EXACT(Z39,AA39) -> TRUE | AD39: 043-835-3343
A40: 35 | B40: 4450000 | C40: 증평군 | D40: 군유지 | G40: 충청북도 증평군 증평읍 송산리 258-1 | I40: 토지 | J40: 답 | K40: 177 | O40: 여 | P40: 일반재산 | Q40: 재무과 | R40: 부 | S40: 해당없음 | T40: 활용불가능 상태 | U40: G05 | V40: =VLOOKUP(U40,'작성방법 관련'!$B$1:$C$8,2) -> 단순 미활용 | W40: 공원 | X40: 공공목적 활용 | Z40: =VLOOKUP(P40,'작성방법 관련'!$E$1:$F$3,2) -> G | AA40: =LEFT(U40,1) -> G | AB40: =EXACT(Z40,AA40) -> TRUE | AD40: 043-835-3343
...

Sheet 작성방법 관련
B1: 코드 | C1: 유휴사유 분류 | E1: 구분 | F1: 코드 | H1: 토지/건물 구분 OJ0001 | L1: 토지(공부)지목 OJ0002 | O1: 건물구분 OJ0007 | R1: 건물용도 OJ0003 | U1: 대부/매각
B2: A01 | C2: 사용허가 가능 재산(공실 등) | E2: 일반재산 | F2: G | H2: 01 | I2: 토지 | L2: 1 | M2: 전 | O2: 10 | P2: 사무소 | R2: 1 | S2: 단독주택 | U2: 01 | V2: 대부대상
B3: A02 | C3: 용도폐지 대상 | E3: 행정재산 | F3: A | H3: 02 | I3: 건물 | L3: 2 | M3: 답 | O3: 50 | P3: 주택 | R3: 2 | S3: 공동주택 | U3: 02 | V3: 매각대상
B4: G01 | C4: 대부계약 만료 후 미대부 상태 | L4: 3 | M4: 과수원 | O4: 99 | P4: 기타 | R4: 3 | S4: 제1종 근린생활시설 | U4: 03 | V4: 대부/매각대상
B5: G02 | C5: 대부 예정 재산 | L5: 4 | M5: 목장용지 | R5: 4 | S5: 제2종 근린생활시설
B6: G03 | C6: 무단점유 재산 | L6: 5 | M6: 임야 | R6: 5 | S6: 문화 및 집회시설
B7: G04 | C7: 누락재산 중 미활용 상태 | L7: 6 | M7: 광천지 | R7: 6 | S7: 판매 및 영업시설
B8: G05 | C8: 단순 미활용 | L8: 7 | M8: 염전 | R8: 7 | S8: 의료시설
L9: 8 | M9: 대 | R9: 8 | S9: 교육연구 및 복지시설
L10: 9 | M10: 공장용지 | R10: 9 | S10: 운동시설
L11: 10 | M11: 학교용지 | R11: 10 | S11: 업무시설
L12: 11 | M12: 주차장 | R12: 11 | S12: 숙박시설
L13: 12 | M13: 주유소용지 | R13: 12 | S13: 위락시설
L14: 13 | M14: 창고용지 | R14: 13 | S14: 공장
L15: 14 | M15: 도로 | R15: 14 | S15: 창고시설
L16: 15 | M16: 철도용지 | R16: 15 | S16: 위험물저장 및 처리시설
L17: 16 | M17: 제방 | R17: 16 | S17: 자동차관련시설
L18: 17 | M18: 하천 | R18: 17 | S18: 동물 및 식물관련시설
L19: 18 | M19: 구거 | R19: 18 | S19: 분뇨 및 쓰레기처리시설
L20: 19 | M20: 유지 | R20: 19 | S20: 공공용시설
... L29: 28 | M29: 잡종지 | R29: 28 | S29: 발전시설
R30: 99 | S30: 기타
